BEGIN:VCALENDAR
VERSION:2.0
PRODID:-//hacksw/handcal//NONSGML v1.0//EN
BEGIN:VEVENT
SUMMARY:Nature Chirac
UID:313c8d72-72f1-4938-8c73-e6e3cbdc47ac
DTSTART:20260912T220000Z
DTEND:20260913T220000Z
LOCATION:Localisation   
CATEGORIES:Sportif
STATUS:
URL;VALUE=URI:https://archersmontgiscard.sportsregions.fr/evenements/2026/09/13/nature-chirac-2374378
END:VEVENT
END:VCALENDAR
