BEGIN:VCALENDAR
VERSION:2.0
PRODID:-//hacksw/handcal//NONSGML v1.0//EN
BEGIN:VEVENT
SUMMARY:3D Pompignan
UID:bc595f21-0213-429e-877e-b701e2462f2e
DTSTART:20260905T220000Z
DTEND:20260906T220000Z
LOCATION:Localisation   
CATEGORIES:Sportif
STATUS:
URL;VALUE=URI:https://archersmontgiscard.sportsregions.fr/evenements/2026/09/06/3d-pompignan-2432189
END:VEVENT
END:VCALENDAR
