BEGIN:VCALENDAR
VERSION:2.0
PRODID:-//hacksw/handcal//NONSGML v1.0//EN
BEGIN:VEVENT
SUMMARY:3D Graulhet (Peyrole)
UID:b5381906-2541-4bee-8c33-8e6fdd0e8fd3
DTSTART:20260710T220000Z
DTEND:20260712T220000Z
LOCATION:Localisation   
CATEGORIES:Sportif
STATUS:
URL;VALUE=URI:https://archersmontgiscard.sportsregions.fr/evenements/2026/07/11/3d-graulhet-peyrole-2374390
END:VEVENT
END:VCALENDAR
