BEGIN:VCALENDAR
VERSION:2.0
PRODID:-//hacksw/handcal//NONSGML v1.0//EN
BEGIN:VEVENT
SUMMARY:3D St Sardos
UID:f5a2359e-57da-4cdb-870d-c5f2e2617a20
DTSTART:20260612T220000Z
DTEND:20260614T220000Z
LOCATION:Localisation   
CATEGORIES:Sportif
STATUS:
URL;VALUE=URI:https://archersmontgiscard.sportsregions.fr/evenements/2026/06/13/3d-st-sardos-2374384
END:VEVENT
END:VCALENDAR
